BEGIN:VCALENDAR
VERSION:2.0
PRODID:-//Tucson Monthly - ECPv6.15.18//NONSGML v1.0//EN
CALSCALE:GREGORIAN
METHOD:PUBLISH
X-WR-CALNAME:Tucson Monthly
X-ORIGINAL-URL:https://tucsonmonthly.com/wp
X-WR-CALDESC:Events for Tucson Monthly
REFRESH-INTERVAL;VALUE=DURATION:PT1H
X-Robots-Tag:noindex
X-PUBLISHED-TTL:PT1H
BEGIN:VTIMEZONE
TZID:America/Phoenix
BEGIN:STANDARD
TZOFFSETFROM:-0700
TZOFFSETTO:-0700
TZNAME:MST
DTSTART:20250101T000000
END:STANDARD
END:VTIMEZONE
BEGIN:VEVENT
DTSTART;TZID=America/Phoenix:20260320T080000
DTEND;TZID=America/Phoenix:20260322T170000
DTSTAMP:20260425T045824
CREATED:20260302T232518Z
LAST-MODIFIED:20260302T233349Z
UID:14191-1773993600-1774198800@tucsonmonthly.com
SUMMARY:Monster Jam
DESCRIPTION:
URL:https://tucsonmonthly.com/wp/event/monster-jam-2/
LOCATION:TCC
CATEGORIES:car culture
END:VEVENT
END:VCALENDAR