BEGIN:VCALENDAR
VERSION:2.0
PRODID:-//Tucson Monthly - ECPv6.15.18//NONSGML v1.0//EN
CALSCALE:GREGORIAN
METHOD:PUBLISH
X-WR-CALNAME:Tucson Monthly
X-ORIGINAL-URL:https://tucsonmonthly.com/wp
X-WR-CALDESC:Events for Tucson Monthly
REFRESH-INTERVAL;VALUE=DURATION:PT1H
X-Robots-Tag:noindex
X-PUBLISHED-TTL:PT1H
BEGIN:VTIMEZONE
TZID:America/Phoenix
BEGIN:STANDARD
TZOFFSETFROM:-0700
TZOFFSETTO:-0700
TZNAME:MST
DTSTART:20240101T000000
END:STANDARD
END:VTIMEZONE
BEGIN:VEVENT
DTSTART;TZID=America/Phoenix:20251002T180000
DTEND;TZID=America/Phoenix:20251002T200000
DTSTAMP:20260421T083933
CREATED:20251001T220235Z
LAST-MODIFIED:20251001T220235Z
UID:13817-1759428000-1759435200@tucsonmonthly.com
SUMMARY:MicroMania Midget Wrestling
DESCRIPTION:MicroMania Midget Wrestling returns to Outlaw Bar & Grill on Thursday October 2nd\, 2025 in Tucson\, AZ\nMicroMania Midget Wrestling is a high powered\, explosive\, athletic Pro Wrestling show with just the right touch of comedy thrown in to make for a unforgettable BIG event not necessarily BIG people!!These 5 foot & under micro athletes may be short in stature but are giants in the world of entertainment where they will keep you on your feet screaming from the opening bell through the Main Event!
URL:https://tucsonmonthly.com/wp/event/micromania-midget-wrestling/
LOCATION:The Outlaw Bar & Grill\, 1302 West Roger Road\, Tucson\, AZ\, 85705\, United States
CATEGORIES:Lucha Libre
ATTACH;FMTTYPE=image/png:https://tucsonmonthly.com/wp/wp-content/uploads/2024/10/micro-mania-wrestling-tour.png
END:VEVENT
END:VCALENDAR